BEGIN:VCALENDAR
VERSION:2.0
PRODID:-//Eventin//Event Calendar//EN
CALSCALE:GREGORIAN
METHOD:PUBLISH
BEGIN:VEVENT
UID:0ec74fb21d9f7693a8ac10db7d8a3513@teachershelpteachers.in
SUMMARY:Primary Years Educators Workshop Series
DESCRIPTION:Primary Years Educator Workshop Series (25–29 May 2026)\nClas
 srooms today need to move beyond routine instruction and create spaces wher
 e every child feels seen\, engaged\, and supported. The Primary Years Educa
 tor Workshop Series is a thoughtfully designed 5-day learning experience th
 at equips educators with practical strategies to make teaching more respons
 ive\, inclusive\, and impactful.\nWorkshop Line-Up\n25 May | Differentiatio
 n 101: Moving Beyond One-Size-Fits-AllFacilitator: Ms Ritu Madaan\nKey Take
 aways:\n\n\nDifferentiation is proactive\, not reactive – Learn how to pl
 an for diversity before teaching begins.\n\n\nCore principles guide practic
 e – Discover how Content\, Process\, Product\, and Environment anchor e
 ffective differentiation.\n\n\nPractical strategies make it doable – Expl
 ore flexible grouping\, tiered tasks\, and choice boards you can use immedi
 ately.\n\n\nSmall changes create big impact – See how even one adjustment
  in lesson design can transform student engagement.\n\n\n26 May | Gamificat
 ion in LearningFacilitator: Ms Rakhee ChhabriaKey Takeaways:\n\nUnderstand 
 how gamification enhances student motivation and engagement\nExplore simple
 \, classroom-ready gamification strategies\nIntegrate game elements meaning
 fully into everyday teaching and learning\n\n27 May | Assessment Beyond Pap
 er and PencilFacilitator: Ms Shraddha PardeshiKey Takeaways:\n\nDefine form
 ative assessment and understand its role in real classroom instruction\nPra
 ctice and adapt 3–5 interactive assessment tools\nCreate a personalized a
 ction plan to implement alternative assessment strategies\n\n28 May |Living
  the Learner Profile: Agency and Action\nFacilitator: Ms Sapna ShahKey Take
 aways:\n\n\nUnderstand how learner agency empowers students to be responsib
 le participants in their learning.\n\n\nExplore practical strategies to nur
 ture student voice\, choice\, ownership\, and reflection.\n\n\nDiscover how
  the Learner Profile attributes can be intentionally developed through clas
 sroom culture and inquiry.\n\n\n29 May | Competency-Based & Concept-Based L
 earning in Primary YearsFacilitator: Dr. Sakshi Pai\nKey Takeaways:\n\nUnde
 rstand the foundations of Competency-Based Learning (CBL)\nLearn how to des
 ign teaching for transfer of learning\nExplore 3 practical classroom strate
 gies to implement immediately\n\nBy the end of the series\, educators will 
 walk away with practical tools\, fresh perspectives\, and a clear action pl
 an to bring more engagement\, inclusion\, and meaning into their classrooms
 .\nParticipants can choose to attend individual workshops or opt for the fu
 ll series experience.\nPricing:\n\nAll 5 Workshops: Rs. 3500/-\nSingle Work
 shop: Rs. 800/-\nEarly Bird Offer (valid till 10 May): Rs. 3000/-\nTHT Pro 
 Members: Rs. 2750/-\n\n Certificates with 10 CPD Hours (2 hours per session
 ) Credits will be awarded upon completion.
LOCATION:Online
DTSTAMP:20260421T111617Z
DTSTART:20260525T183000Z
DTEND:20260529T203000Z
END:VEVENT
END:VCALENDAR
