BEGIN:VCALENDAR
VERSION:2.0
PRODID:-//Eventin//Event Calendar//EN
CALSCALE:GREGORIAN
METHOD:PUBLISH
BEGIN:VEVENT
UID:1de9bff90c168e169b0e3a058d32862a@teachershelpteachers.in
SUMMARY:Online Diploma in Early Childhood Care and Education (ECCEd)
DESCRIPTION:Online Diploma in Early Childhood Care and Education (ECCEd)\nM
 ore than a qualification — a journey with purpose.\nIf you feel drawn to 
 shaping young minds and making a meaningful impact in the early years\, thi
 s programme is designed for you.\nWhether you are an aspiring educator step
 ping into the field\, a parent seeking purposeful work\, or a preschool pro
 fessional looking to grow and lead\, this diploma supports your evolution i
 nto a confident and capable educator.\nWhat You Will Grow Into\nThis progra
 mme goes beyond theory to help you become:\n\nAn educator who nurtures curi
 osity and creativity\nA professional who leads with clarity and confidence\
 nA changemaker who creates meaningful learning environments\n\nWhy This Pro
 gramme Stands Apart\n\nPractical\, creative\, and engaging learning approac
 h\nStrong foundation in real classroom experiences\nFully online with flexi
 ble learning structure\nGuidance from experienced educators and mentors\nDe
 signed to help you stand out as a skilled early years professional\n\nProgr
 amme Details\n\nDuration: 1st to 30th May 2026\nFormat: Online\nBatch Optio
 ns:\n\nMorning: 10:00 AM – 12:00 PM\nEvening: 6:30 PM – 8:30 PM\n\n\n\n
 Programme Investment\n\nStandard Fee: ₹20\,000\nSpecial Price (for Teache
 rs Help Teachers participants): ₹12\,000\nGroup Enrolment (Schools - Min 
 4 participants): ₹10\,000 per participant\n\nWhat’s Included\n\nTwo ECC
 Ed resource books couriered to each participant\nPost-completion marksheet 
 and certificate delivered to your doorstep\n\nWho Can Join\n\nAspiring educ
 ators\nPreschool teachers\nParents exploring a career transition\nChildcare
  professionals\n\nTake the First Step\nThis is not just about earning a dip
 loma.It is about educating with intent\, elevating your practice\, and buil
 ding a future where your work truly matters.\nMake a difference. Become an 
 early years educator who matt
LOCATION:Online
DTSTAMP:20260421T110517Z
DTSTART:20260502T140000Z
DTEND:20260502T160000Z
END:VEVENT
END:VCALENDAR
