BEGIN:VCALENDAR
VERSION:2.0
PRODID:-//Eventin//Event Calendar//EN
CALSCALE:GREGORIAN
METHOD:PUBLISH
BEGIN:VEVENT
UID:bc1284266b53d3b49bacdf3071e1cb75@teachershelpteachers.in
SUMMARY:Essential AI Skills for Educators
DESCRIPTION:It’s not whether AI is greater than you.\n It’s whether yo
 u plus AI is greater than you.”\n— Andrew Ho\, Professor\, HGSE\n \nEs
 sential AI Skills for Educators is a short-term online course designed to 
 help teachers and school leaders understand\, apply\, and integrate AI tool
 s meaningfully into teaching\, learning\, and professional workflows.\n\nTh
 e course is offered in two structured levels\, allowing participants to bui
 ld strong foundations first and then move towards advanced\, application-ba
 sed use of AI in education.\nCourse Structure\n\nLevel 1: 6 Hours\nLevel 2
 : 6 Hours\nSession Time: 4:00PM – 6:00 PM\nMode: Live Online Sessions\n
 \nLevel 1: Essential AI for Educators - Basic course\nLevel 1  : 4 May | 6
  May | 8 May\nTime: 2:30PM - 4:30PM\nKey Takeaways:\n\nEmpower educators to
  integrate AI for creativity\, critical thinking\, and student agency.\nEna
 ble teachers to design\, differentiate\, and document learning using AI too
 ls.\nExplore different tools to integrate creativity and pedagogy in day to
  day teaching.\nFoster a mindset of experimentation\, reflection\, and ethi
 cal innovation in education.\n\nTOOLS COVERED:\n\nPrompt Engineering \, Ge
 mini\, AI Studio\, Sunoh\, HeyGen\, Notebook LLM\,  Canva AI\, \n\nLevel
  2: Advanced AI Applications for Classroom Practice- Build with AI\nCurricu
 lum Highlights: Learn about building customised bots\, assessment framework
 s and automation of administrative tasks \n\nCreating AI agents for routin
 e academic and administrative tasks\nIntegrate AI to provide personalized l
 earning experiences.\nAI and assessments frameworks \n\nLevel 2  : 11 May
  | 13 May | 15 May\nTime: 2:30PM - 4:30PM\nWhat You Will Gain\n\nLive\, int
 eractive online sessions\nHands-on experience with AI tools designed specif
 ically for educators\nPractical strategies that can be implemented immediat
 ely in classrooms and schools\nCertificate of Participation on successful 
 completion\n\n(Recordings will be made available to participants who regist
 er for with recording option) \nInvestment Details\nRegular Fees\n• Leve
 l 1 (with recording) ₹3\,500/- | • Level 1 (without recording) ₹3000
 /-\n• Level 1 + Level 2 (Combo with recording): ₹5\,500\n• Level 1 + 
 Level 2 (Combo without recording): ₹5\,000\nTHT Pro Members- Flat Fee of 
 1800/ for each level.
LOCATION:Online
DTSTAMP:20260421T111616Z
DTSTART:20260504T183000Z
DTEND:20260515T203000Z
END:VEVENT
END:VCALENDAR
