BEGIN:VCALENDAR
VERSION:2.0
PRODID:-//Eventin//Event Calendar//EN
CALSCALE:GREGORIAN
METHOD:PUBLISH
BEGIN:VEVENT
UID:b926e6a3dfa2e3fb36c9086ba704fbdd@teachershelpteachers.in
SUMMARY:Creative Writing Workshop for Educators
DESCRIPTION:Creative Writing Workshop for Educators\nWhat if your students 
 didn’t just write… but truly enjoyed writing?\nImagine a classroom wher
 e ideas flow freely\, students express themselves with confidence\, and wri
 ting becomes a space for creativity rather than hesitation.\n📅 2 May 202
 6 | 3:30 PM – 5:00 PM IST💻 Live Online Session\nWhy This Workshop Matt
 ers\nMany students struggle with writing—not because they lack ideas\, bu
 t because they don’t feel confident expressing them.\nAs educators\, the 
 challenge is not just teaching writing… but making students want to write
 .\nThis workshop helps you bridge that gap with practical\, classroom-ready
  strategies.\nWhat You Will Gain\nPractical Classroom StrategiesUse adaptab
 le prompts\, storytelling frameworks\, and peer-review techniques to improv
 e creativity\, confidence\, and fluency.\nInteractive & Hands-On Experience
 Participate in guided writing exercises\, group discussions\, and collabora
 tive activities—so you experience the process before taking it to your cl
 assroom.\nStudent-Centered OutcomesLearn how to nurture imagination\, stren
 gthen narrative skills\, build vocabulary\, and develop critical thinking a
 cross age groups and proficiency levels.\nMeet Your Facilitator\nMs. Naghma
  ShaikhCambridge International A Level English Teacher – JBCNTeacher Trai
 ner with extensive experience in developing student-centered learning appro
 aches\nInvestment Details\n• Non-Members: ₹699• THT Pro Members: ₹5
 99• Buddy Offer: ₹599• Group Offer (4+ participants): ₹499 per pers
 on\nTake the Next Step\nIf you’re looking to make writing more engaging\,
  expressive\, and meaningful for your students—this session is for you.\n
 Register Now to secure your spot\n 
LOCATION:Online
DTSTAMP:20260421T123008Z
DTSTART:20260502T193000Z
DTEND:20260502T210000Z
END:VEVENT
END:VCALENDAR
